BEGIN:VCALENDAR
VERSION:2.0
PRODID:-//YPNM Sarawak - ECPv6.8.1//NONSGML v1.0//EN
CALSCALE:GREGORIAN
METHOD:PUBLISH
X-ORIGINAL-URL:https://ypnmsarawak.org
X-WR-CALDESC:Events for YPNM Sarawak
REFRESH-INTERVAL;VALUE=DURATION:PT1H
X-Robots-Tag:noindex
X-PUBLISHED-TTL:PT1H
BEGIN:VTIMEZONE
TZID:Asia/Kuching
BEGIN:STANDARD
TZOFFSETFROM:+0800
TZOFFSETTO:+0800
TZNAME:+08
DTSTART:20220101T000000
END:STANDARD
END:VTIMEZONE
BEGIN:VEVENT
DTSTART;VALUE=DATE:20220813
DTEND;VALUE=DATE:20221014
DTSTAMP:20260422T193132
CREATED:20220806T022415Z
LAST-MODIFIED:20220927T065919Z
UID:1899-1660348800-1665705599@ypnmsarawak.org
SUMMARY:PPE Donation to Sarawak Cheshire Home
DESCRIPTION:
URL:https://ypnmsarawak.org/event/ppe-donation-to-sarawak-cheshire-home/
LOCATION:Sarawak Cheshire Home\, 10\, Jalan Ong Tiang Swee & Jalan Ridgeway Off\, Taman Ridgeway\, Kuching\, Sarawak\, 93320\, Malaysia
CATEGORIES:Charity
ORGANIZER;CN="Yayasan Pengguna Negara Malaysia%2C Sarawak":MAILTO:support@ypnmsarawak.com
END:VEVENT
END:VCALENDAR